BEGIN:VCALENDAR
VERSION:2.0
PRODID:-//TC Weinstadt-Endersbach e.V. - ECPv6.15.17.1//NONSGML v1.0//EN
CALSCALE:GREGORIAN
METHOD:PUBLISH
X-WR-CALNAME:TC Weinstadt-Endersbach e.V.
X-ORIGINAL-URL:https://www.tc-weinstadt-endersbach.de
X-WR-CALDESC:Veranstaltungen für TC Weinstadt-Endersbach e.V.
REFRESH-INTERVAL;VALUE=DURATION:PT1H
X-Robots-Tag:noindex
X-PUBLISHED-TTL:PT1H
BEGIN:VTIMEZONE
TZID:Europe/Berlin
BEGIN:DAYLIGHT
TZOFFSETFROM:+0100
TZOFFSETTO:+0200
TZNAME:CEST
DTSTART:20240331T010000
END:DAYLIGHT
BEGIN:STANDARD
TZOFFSETFROM:+0200
TZOFFSETTO:+0100
TZNAME:CET
DTSTART:20241027T010000
END:STANDARD
BEGIN:DAYLIGHT
TZOFFSETFROM:+0100
TZOFFSETTO:+0200
TZNAME:CEST
DTSTART:20250330T010000
END:DAYLIGHT
BEGIN:STANDARD
TZOFFSETFROM:+0200
TZOFFSETTO:+0100
TZNAME:CET
DTSTART:20251026T010000
END:STANDARD
BEGIN:DAYLIGHT
TZOFFSETFROM:+0100
TZOFFSETTO:+0200
TZNAME:CEST
DTSTART:20260329T010000
END:DAYLIGHT
BEGIN:STANDARD
TZOFFSETFROM:+0200
TZOFFSETTO:+0100
TZNAME:CET
DTSTART:20261025T010000
END:STANDARD
END:VTIMEZONE
BEGIN:VEVENT
DTSTART;TZID=Europe/Berlin:20250802T170000
DTEND;TZID=Europe/Berlin:20250802T210000
DTSTAMP:20260421T104258
CREATED:20250718T051052Z
LAST-MODIFIED:20250718T051052Z
UID:8457-1754154000-1754168400@www.tc-weinstadt-endersbach.de
SUMMARY:Clubhaus belegt 2.8.
DESCRIPTION:Damen 40/1 Aufstiegsfeier
URL:https://www.tc-weinstadt-endersbach.de/veranstaltung/clubhaus-belegt-2-8/
END:VEVENT
BEGIN:VEVENT
DTSTART;TZID=Europe/Berlin:20250805T080000
DTEND;TZID=Europe/Berlin:20250805T170000
DTSTAMP:20260421T104258
CREATED:20250312T203451Z
LAST-MODIFIED:20250627T155900Z
UID:8274-1754380800-1754413200@www.tc-weinstadt-endersbach.de
SUMMARY:Tennis- Camp 4.8.
DESCRIPTION:Verena Schüssler \nLena Schäffer
URL:https://www.tc-weinstadt-endersbach.de/veranstaltung/tennis-camp-5-8/
CATEGORIES:Bewirtung
END:VEVENT
BEGIN:VEVENT
DTSTART;TZID=Europe/Berlin:20250805T100000
DTEND;TZID=Europe/Berlin:20250805T140000
DTSTAMP:20260421T104258
CREATED:20250314T204616Z
LAST-MODIFIED:20250605T061740Z
UID:8278-1754388000-1754402400@www.tc-weinstadt-endersbach.de
SUMMARY:Camp 5.8.
DESCRIPTION:Michaela Geiger und Silke Mössinger
URL:https://www.tc-weinstadt-endersbach.de/veranstaltung/camp-5-8/
CATEGORIES:Bewirtung
END:VEVENT
BEGIN:VEVENT
DTSTART;TZID=Europe/Berlin:20250806T100000
DTEND;TZID=Europe/Berlin:20250806T140000
DTSTAMP:20260421T104258
CREATED:20250312T145113Z
LAST-MODIFIED:20250408T200957Z
UID:8264-1754474400-1754488800@www.tc-weinstadt-endersbach.de
SUMMARY:Tennis- Camp 6.8.
DESCRIPTION:Steffi Traub und Kirstin Gönnenwein
URL:https://www.tc-weinstadt-endersbach.de/veranstaltung/tennis-camp-6-8/
CATEGORIES:Bewirtung
END:VEVENT
BEGIN:VEVENT
DTSTART;TZID=Europe/Berlin:20250807T100000
DTEND;TZID=Europe/Berlin:20250807T140000
DTSTAMP:20260421T104258
CREATED:20250316T204416Z
LAST-MODIFIED:20250408T200957Z
UID:8280-1754560800-1754575200@www.tc-weinstadt-endersbach.de
SUMMARY:Tennis Camp 7.8.
DESCRIPTION:Steffi und Thimo Wagner
URL:https://www.tc-weinstadt-endersbach.de/veranstaltung/tennis-camp-7-8/
CATEGORIES:Bewirtung
END:VEVENT
BEGIN:VEVENT
DTSTART;TZID=Europe/Berlin:20250808T100000
DTEND;TZID=Europe/Berlin:20250808T140000
DTSTAMP:20260421T104258
CREATED:20250311T175941Z
LAST-MODIFIED:20250415T122355Z
UID:8252-1754647200-1754661600@www.tc-weinstadt-endersbach.de
SUMMARY:Camp 8.8. 10-14 Uhr
DESCRIPTION:Steffen Kinzler \nMarcus Traubach
URL:https://www.tc-weinstadt-endersbach.de/veranstaltung/camp-8-8-10-14-uhr/
CATEGORIES:Bewirtung
END:VEVENT
BEGIN:VEVENT
DTSTART;TZID=Europe/Berlin:20250808T170000
DTEND;TZID=Europe/Berlin:20250808T210000
DTSTAMP:20260421T104258
CREATED:20250311T154240Z
LAST-MODIFIED:20250408T200957Z
UID:8234-1754672400-1754686800@www.tc-weinstadt-endersbach.de
SUMMARY:Abschlussgrillen 8.8.25
DESCRIPTION:André Pfleger 17-21 Uhr \nAdriana Fernández 17-21 \nTobi Schirner 17-21 \nTimo Gönnenwein 17-21 \nphilip Eckhardt
URL:https://www.tc-weinstadt-endersbach.de/veranstaltung/abschlussgrillen-8-8-25/
CATEGORIES:Bewirtung
END:VEVENT
BEGIN:VEVENT
DTSTART;TZID=Europe/Berlin:20250816T080000
DTEND;TZID=Europe/Berlin:20250816T170000
DTSTAMP:20260421T104258
CREATED:20250311T174724Z
LAST-MODIFIED:20250812T074131Z
UID:8240-1755331200-1755363600@www.tc-weinstadt-endersbach.de
SUMMARY:LK- Turnier 16.8. (7:30-20:00)
DESCRIPTION:Christiane Dlapal 8-15 Uhr /ab 14 Turnierleiterin \nSabine Issler und Wolfgang 9-14 Kuchen \nMelanie Meier 6 Stunden Kuchen 13-17 \nSusanne Dietzel 6 Stunden Kuchen 13-17 \nTorsten 15-17 Turnierleitung
URL:https://www.tc-weinstadt-endersbach.de/veranstaltung/lk-turnier-16-8/
CATEGORIES:Bewirtung
END:VEVENT
BEGIN:VEVENT
DTSTART;TZID=Europe/Berlin:20250816T080000
DTEND;TZID=Europe/Berlin:20250816T210000
DTSTAMP:20260421T104258
CREATED:20250412T082608Z
LAST-MODIFIED:20250412T082608Z
UID:8318-1755331200-1755378000@www.tc-weinstadt-endersbach.de
SUMMARY:LK-Tagesturnier Damen 50 / Herren 50
DESCRIPTION:Zulassung nach Meldeeingang.\nNur Online-Anmeldungen via spieler.tennis.de möglich.
URL:https://www.tc-weinstadt-endersbach.de/veranstaltung/lk-tagesturnier-damen-50-herren-50/
LOCATION:Platzanlage Endersbach\, Wiesengarten 17\, Weinstadt\, 71384
CATEGORIES:Veranstaltungen
ORGANIZER;CN="Sportleitung":MAILTO:sportleitung@tc-weinstadt-endersbach.de
END:VEVENT
BEGIN:VEVENT
DTSTART;TZID=Europe/Berlin:20250817T080000
DTEND;TZID=Europe/Berlin:20250817T170000
DTSTAMP:20260421T104258
CREATED:20250311T221454Z
LAST-MODIFIED:20250714T182811Z
UID:8260-1755417600-1755450000@www.tc-weinstadt-endersbach.de
SUMMARY:LK- Turnier 17.8. (7:30-20:00)
DESCRIPTION:Beatrix Scheel ab 7:30-15:30 Kuchen \nTanja Köhli ab 8-13 Uhr holt die Backwaren beim Weller und Kuchen \nSigrid Krügel ab 15-19/20 Uhr \nAdriana Fernández ab 12 Uhr \nPeter Ladwein ab 15 Uhr- Ende
URL:https://www.tc-weinstadt-endersbach.de/veranstaltung/lk-turnier-17-8/
CATEGORIES:Bewirtung
END:VEVENT
BEGIN:VEVENT
DTSTART;TZID=Europe/Berlin:20250817T080000
DTEND;TZID=Europe/Berlin:20250817T210000
DTSTAMP:20260421T104258
CREATED:20250412T082702Z
LAST-MODIFIED:20250806T120623Z
UID:8320-1755417600-1755464400@www.tc-weinstadt-endersbach.de
SUMMARY:ABSAGE: LK-Tagesturnier Aktive Damen / Aktive Herren
DESCRIPTION:Aufgrund geringer Meldezahlen wird das Turnier abgesagt.
URL:https://www.tc-weinstadt-endersbach.de/veranstaltung/lk-tagesturnier-aktive-damen-aktive-herren/
LOCATION:Platzanlage Endersbach\, Wiesengarten 17\, Weinstadt\, 71384
CATEGORIES:Veranstaltungen
ORGANIZER;CN="Sportleitung":MAILTO:sportleitung@tc-weinstadt-endersbach.de
END:VEVENT
BEGIN:VEVENT
DTSTART;TZID=Europe/Berlin:20250823T170000
DTEND;TZID=Europe/Berlin:20250823T233000
DTSTAMP:20260421T104258
CREATED:20240802T142948Z
LAST-MODIFIED:20250409T133813Z
UID:8128-1755968400-1755991800@www.tc-weinstadt-endersbach.de
SUMMARY:Clubhaus vermietet 23.8.2025
DESCRIPTION:Jan Fischer
URL:https://www.tc-weinstadt-endersbach.de/veranstaltung/clubhaus-vermietet/
CATEGORIES:Vermietung
END:VEVENT
END:VCALENDAR